BEGIN:VCALENDAR
VERSION:2.0
PRODID:-//rssny.org//NONSGML kigkonsult.se iCalcreator 2.30.10//
CALSCALE:GREGORIAN
METHOD:PUBLISH
UID:a60a0bea-96f9-4ac5-8a8a-952e43c53bed
X-WR-CALDESC:\n
X-WR-RELCALID:26ba1169ab224d2352f085aa8ef0b60d
X-WR-TIMEZONE:America/New_York
BEGIN:VTIMEZONE
TZID:America/New_York
BEGIN:STANDARD
TZNAME:EST
DTSTART:20241103T020000
TZOFFSETFROM:-0400
TZOFFSETTO:-0500
RDATE:20251102T020000
RDATE:20261101T020000
END:STANDARD
BEGIN:DAYLIGHT
TZNAME:EDT
DTSTART:20250309T020000
TZOFFSETFROM:-0500
TZOFFSETTO:-0400
RDATE:20260308T020000
END:DAYLIGHT
END:VTIMEZONE
BEGIN:VEVENT
UID:ec49f980-3992-42b1-9671-b83f3f29fb0f
DTSTAMP:20260420T171554Z
DESCRIPTION:\n
DTSTART;TZID=America/New_York:20250812T100000
DTEND;TZID=America/New_York:20250812T110000
LOCATION:
SUMMARY:Blood Pressure Testing (In Center
END:VEVENT
END:VCALENDAR
