BEGIN:VCALENDAR
VERSION:2.0
PRODID:-//rssny.org//NONSGML kigkonsult.se iCalcreator 2.30.10//
CALSCALE:GREGORIAN
METHOD:PUBLISH
UID:569a38c5-bc25-4ed3-b560-3568939106e9
X-WR-CALDESC:Join Erenia Pena as she shares her love of jewelry making to s
 how you how to make your own\, fabulous creations!
X-WR-RELCALID:285eaec63d906a786f4c256b3c698a5b
X-WR-TIMEZONE:America/New_York
BEGIN:VTIMEZONE
TZID:America/New_York
BEGIN:STANDARD
TZNAME:EST
DTSTART:20241103T020000
TZOFFSETFROM:-0400
TZOFFSETTO:-0500
RDATE:20251102T020000
RDATE:20261101T020000
END:STANDARD
BEGIN:DAYLIGHT
TZNAME:EDT
DTSTART:20250309T020000
TZOFFSETFROM:-0500
TZOFFSETTO:-0400
RDATE:20260308T020000
END:DAYLIGHT
END:VTIMEZONE
BEGIN:VEVENT
UID:35fd0459-699f-4807-af87-cac7dfc7c30a
DTSTAMP:20260420T173232Z
DESCRIPTION:Join Erenia Pena as she shares her love of jewelry making to sh
 ow you how to make your own\, fabulous creations!
DTSTART;TZID=America/New_York:20250811T140000
DTEND;TZID=America/New_York:20250811T150000
LOCATION:
SUMMARY:NEW  Jewelry Class with Eddy (In Center)
END:VEVENT
END:VCALENDAR
