BEGIN:VCALENDAR
VERSION:2.0
PRODID:-//rssny.org//NONSGML kigkonsult.se iCalcreator 2.30.10//
CALSCALE:GREGORIAN
METHOD:PUBLISH
UID:d1e6156d-441a-48a4-b183-901d594868f2
X-WR-CALDESC:Join us on select Fridays through the summer for Decades of Fu
 n!
X-WR-RELCALID:24f043f43a37465dc8a6d31a397708e3
X-WR-TIMEZONE:America/New_York
BEGIN:VTIMEZONE
TZID:America/New_York
BEGIN:STANDARD
TZNAME:EST
DTSTART:20241103T020000
TZOFFSETFROM:-0400
TZOFFSETTO:-0500
RDATE:20251102T020000
RDATE:20261101T020000
END:STANDARD
BEGIN:DAYLIGHT
TZNAME:EDT
DTSTART:20250309T020000
TZOFFSETFROM:-0500
TZOFFSETTO:-0400
RDATE:20260308T020000
END:DAYLIGHT
END:VTIMEZONE
BEGIN:VEVENT
UID:396ccfeb-b4e4-4c64-998e-503eff4d327b
DTSTAMP:20260420T172922Z
DESCRIPTION:Join us on select Fridays through the summer for Decades of Fun
 !
DTSTART;TZID=America/New_York:20250801T130000
DTEND;TZID=America/New_York:20250801T140000
LOCATION:
SUMMARY:Fun Friday: Decades of Fun - 1960s: Video - 60s highlights\, Make L
 ove Bead Bracelets (In Center)
END:VEVENT
END:VCALENDAR
