BEGIN:VCALENDAR
VERSION:2.0
PRODID:-//rssny.org//NONSGML kigkonsult.se iCalcreator 2.30.10//
CALSCALE:GREGORIAN
METHOD:PUBLISH
UID:f777ac9d-e177-4d5e-8878-86a0345f30b7
X-WR-CALDESC:Join us on select Fridays through the summer for Decades of Fu
 n!
X-WR-RELCALID:4a77182924351fab564f2f3e792cab40
X-WR-TIMEZONE:America/New_York
BEGIN:VTIMEZONE
TZID:America/New_York
BEGIN:STANDARD
TZNAME:EST
DTSTART:20241103T020000
TZOFFSETFROM:-0400
TZOFFSETTO:-0500
RDATE:20251102T020000
RDATE:20261101T020000
END:STANDARD
BEGIN:DAYLIGHT
TZNAME:EDT
DTSTART:20250309T020000
TZOFFSETFROM:-0500
TZOFFSETTO:-0400
RDATE:20260308T020000
END:DAYLIGHT
END:VTIMEZONE
BEGIN:VEVENT
UID:ba7ca45c-753f-44dc-b925-01628d68b267
DTSTAMP:20260420T172755Z
DESCRIPTION:Join us on select Fridays through the summer for Decades of Fun
 !
DTSTART;TZID=America/New_York:20250801T110000
DTEND;TZID=America/New_York:20250801T120000
LOCATION:
SUMMARY:Fun Friday: Decades of Fun - 1960s: Music & History Bingo (In Cente
 r)
END:VEVENT
END:VCALENDAR
