BEGIN:VCALENDAR
VERSION:2.0
PRODID:-//rssny.org//NONSGML kigkonsult.se iCalcreator 2.30.10//
CALSCALE:GREGORIAN
METHOD:PUBLISH
UID:b467de78-d778-4081-bad4-73c7a06f18ec
X-WR-CALDESC:Topic: Burn Safety and Prevention for Older Adults\n\nLearn wh
 at to do to prevent and treat burns. Led by NY Presbyterian.
X-WR-RELCALID:5054ea2bc41585b4de94dd1a9cdce808
X-WR-TIMEZONE:America/New_York
BEGIN:VTIMEZONE
TZID:America/New_York
BEGIN:STANDARD
TZNAME:EST
DTSTART:20241103T020000
TZOFFSETFROM:-0400
TZOFFSETTO:-0500
RDATE:20251102T020000
RDATE:20261101T020000
END:STANDARD
BEGIN:DAYLIGHT
TZNAME:EDT
DTSTART:20250309T020000
TZOFFSETFROM:-0500
TZOFFSETTO:-0400
RDATE:20260308T020000
END:DAYLIGHT
END:VTIMEZONE
BEGIN:VEVENT
UID:72bac987-9a18-43a7-b70d-9b6bc773ca82
DTSTAMP:20260420T191622Z
DESCRIPTION:Topic: Burn Safety and Prevention for Older Adults\n\nLearn wha
 t to do to prevent and treat burns. Led by NY Presbyterian.
DTSTART;TZID=America/New_York:20250730T130000
DTEND;TZID=America/New_York:20250730T141500
LOCATION:
SUMMARY:Burn Safety and Prevention for Older Adults Presented by NY Presbyt
 erian (Hybrid) (I)
END:VEVENT
END:VCALENDAR
