BEGIN:VCALENDAR
VERSION:2.0
PRODID:-//rssny.org//NONSGML kigkonsult.se iCalcreator 2.30.10//
CALSCALE:GREGORIAN
METHOD:PUBLISH
UID:3ca411b6-5f75-476a-97db-2b0ededd0f7d
X-WR-CALDESC:REGISTER HERE: https://rssny.org/class-forms/technology-classe
 s.html\n\nThis class is online.\nLevel: Beginner\n\nThis session is led by
  Tabitha Rosa\, Virtual Programs Coordinator and Tech Specialist.
X-WR-RELCALID:939bd26cf71eade94475e0ba44c694b5
X-WR-TIMEZONE:America/New_York
BEGIN:VTIMEZONE
TZID:America/New_York
BEGIN:STANDARD
TZNAME:EST
DTSTART:20241103T020000
TZOFFSETFROM:-0400
TZOFFSETTO:-0500
RDATE:20251102T020000
RDATE:20261101T020000
END:STANDARD
BEGIN:DAYLIGHT
TZNAME:EDT
DTSTART:20250309T020000
TZOFFSETFROM:-0500
TZOFFSETTO:-0400
RDATE:20260308T020000
END:DAYLIGHT
END:VTIMEZONE
BEGIN:VEVENT
UID:803fcebf-4d7d-49c1-9ffb-d09b8212da27
DTSTAMP:20260420T185742Z
DESCRIPTION:REGISTER HERE: https://rssny.org/class-forms/technology-classes
 .html\n\nThis class is online.\nLevel: Beginner\n\nThis session is led by 
 Tabitha Rosa\, Virtual Programs Coordinator and Tech Specialist.
DTSTART;TZID=America/New_York:20250717T110000
DTEND;TZID=America/New_York:20250717T120000
LOCATION:https://rssny.org/class-forms/technology-classes.html
SUMMARY:Tech How-To's: Online Shopping 101 (ONLINE)
END:VEVENT
END:VCALENDAR
