BEGIN:VCALENDAR
VERSION:2.0
PRODID:-//rssny.org//NONSGML kigkonsult.se iCalcreator 2.30.10//
CALSCALE:GREGORIAN
METHOD:PUBLISH
UID:a91c8f6a-5d89-48d9-aec0-bda2c2f5e6ee
X-WR-CALDESC:\n
X-WR-RELCALID:a8bb240764e43d1e90f304509d1525c9
X-WR-TIMEZONE:America/New_York
BEGIN:VTIMEZONE
TZID:America/New_York
BEGIN:STANDARD
TZNAME:EST
DTSTART:20241103T020000
TZOFFSETFROM:-0400
TZOFFSETTO:-0500
RDATE:20251102T020000
RDATE:20261101T020000
END:STANDARD
BEGIN:DAYLIGHT
TZNAME:EDT
DTSTART:20250309T020000
TZOFFSETFROM:-0500
TZOFFSETTO:-0400
RDATE:20260308T020000
END:DAYLIGHT
END:VTIMEZONE
BEGIN:VEVENT
UID:5ebe3ca4-b622-4cf9-b2da-22dcfd951b7c
DTSTAMP:20260420T185349Z
DESCRIPTION:\n
DTSTART;TZID=America/New_York:20250717T100000
DTEND;TZID=America/New_York:20250717T110000
LOCATION:
SUMMARY:Blood Pressure Testing (In Center
END:VEVENT
END:VCALENDAR
