BEGIN:VCALENDAR
VERSION:2.0
PRODID:-//rssny.org//NONSGML kigkonsult.se iCalcreator 2.30.10//
CALSCALE:GREGORIAN
METHOD:PUBLISH
UID:68036094-7c67-46bb-9b4e-1b9764d692ea
X-WR-CALDESC:REGISTER HERE: https://rssny.org/class-forms/technology-classe
 s.html\n\nThis class is online.\nLevel: Beginner\n\nThis session is led by
  Tabitha Rosa\, Virtual Programs Coordinator and Tech Specialist.
X-WR-RELCALID:039c52a50afc6fa96bd0e865e93668dc
X-WR-TIMEZONE:America/New_York
BEGIN:VTIMEZONE
TZID:America/New_York
BEGIN:STANDARD
TZNAME:EST
DTSTART:20241103T020000
TZOFFSETFROM:-0400
TZOFFSETTO:-0500
RDATE:20251102T020000
RDATE:20261101T020000
END:STANDARD
BEGIN:DAYLIGHT
TZNAME:EDT
DTSTART:20250309T020000
TZOFFSETFROM:-0500
TZOFFSETTO:-0400
RDATE:20260308T020000
END:DAYLIGHT
END:VTIMEZONE
BEGIN:VEVENT
UID:d48c1d94-fb24-4f43-901b-45ae11aab8cf
DTSTAMP:20260420T185413Z
DESCRIPTION:REGISTER HERE: https://rssny.org/class-forms/technology-classes
 .html\n\nThis class is online.\nLevel: Beginner\n\nThis session is led by 
 Tabitha Rosa\, Virtual Programs Coordinator and Tech Specialist.
DTSTART;TZID=America/New_York:20250703T110000
DTEND;TZID=America/New_York:20250703T120000
LOCATION:https://rssny.org/class-forms/technology-classes.html
SUMMARY:Tech How-To's: (ONLINE)
END:VEVENT
END:VCALENDAR
