BEGIN:VCALENDAR
VERSION:2.0
PRODID:-//rssny.org//NONSGML kigkonsult.se iCalcreator 2.30.10//
CALSCALE:GREGORIAN
METHOD:PUBLISH
UID:6f803936-0c25-4562-b311-3e276742607f
X-WR-CALDESC:Register here - https://rssny.org/class-forms/concerts-in-moti
 on.html
X-WR-RELCALID:d5ece2472f621321fa7b850621d7864f
X-WR-TIMEZONE:America/New_York
BEGIN:VTIMEZONE
TZID:America/New_York
BEGIN:STANDARD
TZNAME:EST
DTSTART:20241103T020000
TZOFFSETFROM:-0400
TZOFFSETTO:-0500
RDATE:20251102T020000
RDATE:20261101T020000
END:STANDARD
BEGIN:DAYLIGHT
TZNAME:EDT
DTSTART:20250309T020000
TZOFFSETFROM:-0500
TZOFFSETTO:-0400
RDATE:20260308T020000
END:DAYLIGHT
END:VTIMEZONE
BEGIN:VEVENT
UID:15be0424-5f51-4c6f-9ad2-ac02bf2eb5a6
DTSTAMP:20260420T205258Z
DESCRIPTION:Register here - https://rssny.org/class-forms/concerts-in-motio
 n.html
DTSTART;TZID=America/New_York:20250624T120000
DTEND;TZID=America/New_York:20250624T130000
LOCATION:https://rssny.org/class-forms/concerts-in-motion.html
SUMMARY:Concerts in Motion: Songbook Tuesdays (This is not an RSS event)
END:VEVENT
END:VCALENDAR
