BEGIN:VCALENDAR
VERSION:2.0
PRODID:-//rssny.org//NONSGML kigkonsult.se iCalcreator 2.30.10//
CALSCALE:GREGORIAN
METHOD:PUBLISH
UID:d1769213-0936-4e94-a7e9-f49bde21cb8c
X-WR-CALDESC:
X-WR-RELCALID:e2b6bf0f7297f770168a2969863f9927
X-WR-TIMEZONE:America/New_York
BEGIN:VTIMEZONE
TZID:America/New_York
BEGIN:STANDARD
TZNAME:EST
DTSTART:20241103T020000
TZOFFSETFROM:-0400
TZOFFSETTO:-0500
RDATE:20251102T020000
RDATE:20261101T020000
END:STANDARD
BEGIN:DAYLIGHT
TZNAME:EDT
DTSTART:20250309T020000
TZOFFSETFROM:-0500
TZOFFSETTO:-0400
RDATE:20260308T020000
END:DAYLIGHT
END:VTIMEZONE
BEGIN:VEVENT
UID:8fcad8ac-b0a6-40f5-90e9-5e9961d91192
DTSTAMP:20260420T203916Z
DESCRIPTION:
DTSTART;TZID=America/New_York:20250623T140000
DTEND;TZID=America/New_York:20250623T150000
LOCATION:2600 Netherland Avenue\, 1st floor\, Bronx\, AL 10463 US
SUMMARY:Tiger Mountain Qigong
END:VEVENT
END:VCALENDAR
