BEGIN:VCALENDAR
VERSION:2.0
PRODID:-//rssny.org//NONSGML kigkonsult.se iCalcreator 2.30.10//
CALSCALE:GREGORIAN
METHOD:PUBLISH
UID:93dc9342-c6e1-4672-b237-ae9240993839
X-WR-CALDESC:Weekly non-competitive bridge game
X-WR-RELCALID:3b8e99c4117d953317de626b319681a1
X-WR-TIMEZONE:America/New_York
BEGIN:VTIMEZONE
TZID:America/New_York
BEGIN:STANDARD
TZNAME:EST
DTSTART:20241103T020000
TZOFFSETFROM:-0400
TZOFFSETTO:-0500
RDATE:20251102T020000
RDATE:20261101T020000
END:STANDARD
BEGIN:DAYLIGHT
TZNAME:EDT
DTSTART:20250309T020000
TZOFFSETFROM:-0500
TZOFFSETTO:-0400
RDATE:20260308T020000
END:DAYLIGHT
END:VTIMEZONE
BEGIN:VEVENT
UID:cc8714ec-6762-4179-b835-54c8734bd131
DTSTAMP:20260420T204113Z
DESCRIPTION:Weekly non-competitive bridge game
DTSTART;TZID=America/New_York:20250613T140000
DTEND;TZID=America/New_York:20250613T163000
LOCATION:
SUMMARY:Leisure Games Bridge (In Center)
END:VEVENT
END:VCALENDAR
