BEGIN:VCALENDAR
VERSION:2.0
PRODID:-//rssny.org//NONSGML kigkonsult.se iCalcreator 2.30.10//
CALSCALE:GREGORIAN
METHOD:PUBLISH
UID:83702a04-b2f6-4cef-b154-616956a331ef
X-WR-CALDESC:REGISTER HERE: https://rssny.org/class-forms/technology-classe
 s.html\n\nThis class is online.\nLevel: Beginner\n\nThis session is led by
  Tabitha Rosa\, Virtual Programs Coordinator and Tech Specialist.
X-WR-RELCALID:c727068ca70b326850c09e1f028f3646
X-WR-TIMEZONE:America/New_York
BEGIN:VTIMEZONE
TZID:America/New_York
BEGIN:STANDARD
TZNAME:EST
DTSTART:20241103T020000
TZOFFSETFROM:-0400
TZOFFSETTO:-0500
RDATE:20251102T020000
RDATE:20261101T020000
END:STANDARD
BEGIN:DAYLIGHT
TZNAME:EDT
DTSTART:20250309T020000
TZOFFSETFROM:-0500
TZOFFSETTO:-0400
RDATE:20260308T020000
END:DAYLIGHT
END:VTIMEZONE
BEGIN:VEVENT
UID:cf10b442-02e4-48c4-9d9b-20580c24f502
DTSTAMP:20260420T203946Z
DESCRIPTION:REGISTER HERE: https://rssny.org/class-forms/technology-classes
 .html\n\nThis class is online.\nLevel: Beginner\n\nThis session is led by 
 Tabitha Rosa\, Virtual Programs Coordinator and Tech Specialist.
DTSTART;TZID=America/New_York:20250605T110000
DTEND;TZID=America/New_York:20250605T120000
LOCATION:https://rssny.org/class-forms/technology-classes.html
SUMMARY:Tech How-To's: (ONLINE)
END:VEVENT
END:VCALENDAR
