BEGIN:VCALENDAR
VERSION:2.0
PRODID:-//rssny.org//NONSGML kigkonsult.se iCalcreator 2.30.10//
CALSCALE:GREGORIAN
METHOD:PUBLISH
UID:d9ddead5-6bf0-490b-975b-a6597e09c494
X-WR-CALDESC:Celine Dion\nhttps://en.wikipedia.org/wiki/Celine_Dion\n\n\n\n
X-WR-RELCALID:0aa5563deefa8f0b12440f15276f8592
X-WR-TIMEZONE:America/New_York
BEGIN:VTIMEZONE
TZID:America/New_York
BEGIN:STANDARD
TZNAME:EST
DTSTART:20241103T020000
TZOFFSETFROM:-0400
TZOFFSETTO:-0500
RDATE:20251102T020000
RDATE:20261101T020000
END:STANDARD
BEGIN:DAYLIGHT
TZNAME:EDT
DTSTART:20250309T020000
TZOFFSETFROM:-0500
TZOFFSETTO:-0400
RDATE:20260308T020000
END:DAYLIGHT
END:VTIMEZONE
BEGIN:VEVENT
UID:de0177d5-f10b-482f-9a03-592aba0bce8b
DTSTAMP:20260420T204114Z
DESCRIPTION:Celine Dion\nhttps://en.wikipedia.org/wiki/Celine_Dion\n\n\n\n
DTSTART;TZID=America/New_York:20250601T160000
DTEND;TZID=America/New_York:20250601T171500
LOCATION:https://rssny.org/music_appreciation.html
SUMMARY:Music Appreciation with Diana: Celine Dion (Online)
END:VEVENT
END:VCALENDAR
