BEGIN:VCALENDAR
VERSION:2.0
PRODID:-//rssny.org//NONSGML kigkonsult.se iCalcreator 2.30.10//
CALSCALE:GREGORIAN
METHOD:PUBLISH
UID:6d3605a2-beab-49da-bf86-a79424489db4
X-WR-CALDESC:Join Barbara Denson for a monthly workshop about all things pl
 ant-related. Each month will be something new\, whether learning about var
 ious plants and plant care or engaging in fun craft projects related to th
 em.
X-WR-RELCALID:64e1bd86632a6d4a9e2641a463bb6947
X-WR-TIMEZONE:America/New_York
BEGIN:VTIMEZONE
TZID:America/New_York
BEGIN:STANDARD
TZNAME:EST
DTSTART:20241103T020000
TZOFFSETFROM:-0400
TZOFFSETTO:-0500
RDATE:20251102T020000
RDATE:20261101T020000
END:STANDARD
BEGIN:DAYLIGHT
TZNAME:EDT
DTSTART:20250309T020000
TZOFFSETFROM:-0500
TZOFFSETTO:-0400
RDATE:20260308T020000
END:DAYLIGHT
END:VTIMEZONE
BEGIN:VEVENT
UID:a6a7f456-ece1-4f34-9630-7e1357117d07
DTSTAMP:20260420T223729Z
DESCRIPTION:Join Barbara Denson for a monthly workshop about all things pla
 nt-related. Each month will be something new\, whether learning about vari
 ous plants and plant care or engaging in fun craft projects related to the
 m.
DTSTART;TZID=America/New_York:20250512T141500
DTEND;TZID=America/New_York:20250512T151500
LOCATION:
SUMMARY:Horticultural Wellness Workshops with Barbara (In House)
END:VEVENT
END:VCALENDAR
