BEGIN:VCALENDAR
VERSION:2.0
PRODID:-//rssny.org//NONSGML kigkonsult.se iCalcreator 2.30.10//
CALSCALE:GREGORIAN
METHOD:PUBLISH
UID:25099588-0952-4bf9-a5d7-896cb9327729
X-WR-CALDESC:
X-WR-RELCALID:21d501bab0c8207bda7834fcae1ca3e7
X-WR-TIMEZONE:America/New_York
BEGIN:VTIMEZONE
TZID:America/New_York
BEGIN:STANDARD
TZNAME:EST
DTSTART:20241103T020000
TZOFFSETFROM:-0400
TZOFFSETTO:-0500
RDATE:20251102T020000
RDATE:20261101T020000
END:STANDARD
BEGIN:DAYLIGHT
TZNAME:EDT
DTSTART:20250309T020000
TZOFFSETFROM:-0500
TZOFFSETTO:-0400
RDATE:20260308T020000
END:DAYLIGHT
END:VTIMEZONE
BEGIN:VEVENT
UID:7c773a9e-4041-495c-90a8-33e5c7a31727
DTSTAMP:20260420T223417Z
DESCRIPTION:
DTSTART;TZID=America/New_York:20250509T110000
DTEND;TZID=America/New_York:20250509T120000
LOCATION:
SUMMARY:Walking Tour: Kappock Garden (In Person)
END:VEVENT
END:VCALENDAR
