BEGIN:VCALENDAR
VERSION:2.0
PRODID:-//rssny.org//NONSGML kigkonsult.se iCalcreator 2.30.10//
CALSCALE:GREGORIAN
METHOD:PUBLISH
UID:6ce93aad-a514-4ffd-a8c8-3953e2f05452
X-WR-CALDESC:Click Here to Register - https://rssny.org/class-forms/concert
 s-in-motion.html\n
X-WR-RELCALID:3b08fc314f883836a94774291c265e32
X-WR-TIMEZONE:America/New_York
BEGIN:VTIMEZONE
TZID:America/New_York
BEGIN:STANDARD
TZNAME:EST
DTSTART:20241103T020000
TZOFFSETFROM:-0400
TZOFFSETTO:-0500
RDATE:20251102T020000
RDATE:20261101T020000
END:STANDARD
BEGIN:DAYLIGHT
TZNAME:EDT
DTSTART:20250309T020000
TZOFFSETFROM:-0500
TZOFFSETTO:-0400
RDATE:20260308T020000
END:DAYLIGHT
END:VTIMEZONE
BEGIN:VEVENT
UID:160ae09a-b922-469b-82ea-1bcd9e24fcd7
DTSTAMP:20260420T223539Z
DESCRIPTION:Click Here to Register - https://rssny.org/class-forms/concerts
 -in-motion.html\n
DTSTART;TZID=America/New_York:20250508T130000
DTEND;TZID=America/New_York:20250508T140000
LOCATION:https://rssny.org/class-forms/concerts-in-motion.html
SUMMARY:Concerts in Motion: Coffehouse Thursdays- NOT AN RSS PROGRAM)
END:VEVENT
END:VCALENDAR
