BEGIN:VCALENDAR
VERSION:2.0
PRODID:-//rssny.org//NONSGML kigkonsult.se iCalcreator 2.30.10//
CALSCALE:GREGORIAN
METHOD:PUBLISH
UID:8b68cad1-f2a0-4487-8d55-3a0c9deef062
X-WR-CALDESC:
X-WR-RELCALID:5af1ef13371b713178fac79e4cdd0982
X-WR-TIMEZONE:America/New_York
BEGIN:VTIMEZONE
TZID:America/New_York
BEGIN:STANDARD
TZNAME:EST
DTSTART:20241103T020000
TZOFFSETFROM:-0400
TZOFFSETTO:-0500
RDATE:20251102T020000
END:STANDARD
BEGIN:DAYLIGHT
TZNAME:EDT
DTSTART:20250309T020000
TZOFFSETFROM:-0500
TZOFFSETTO:-0400
RDATE:20260308T020000
END:DAYLIGHT
END:VTIMEZONE
BEGIN:VEVENT
UID:72ba323d-f79b-4e26-885c-2f5248dc2517
DTSTAMP:20260421T002840Z
DESCRIPTION:
DTSTART;TZID=America/New_York:20250424T100000
DTEND;TZID=America/New_York:20250424T143000
LOCATION:
SUMMARY:Horace Mann 11th Gr. Service Learning Day (In Center)
END:VEVENT
END:VCALENDAR
