BEGIN:VCALENDAR
VERSION:2.0
PRODID:-//rssny.org//NONSGML kigkonsult.se iCalcreator 2.30.10//
CALSCALE:GREGORIAN
METHOD:PUBLISH
UID:37a90a18-2994-4eb0-abaf-de535333f768
X-WR-CALDESC:Indoor gardening and starting your plants from seed doesn't ha
 ve to be difficult\, or expensive. If you have a plastic water bottle\, a 
 little soil and seeds\, you're good to go! Come and start your own indoor 
 garden.
X-WR-RELCALID:4b32963edc396a7e7a6654e6b1470bec
X-WR-TIMEZONE:America/New_York
BEGIN:VTIMEZONE
TZID:America/New_York
BEGIN:STANDARD
TZNAME:EST
DTSTART:20241103T020000
TZOFFSETFROM:-0400
TZOFFSETTO:-0500
RDATE:20251102T020000
END:STANDARD
BEGIN:DAYLIGHT
TZNAME:EDT
DTSTART:20250309T020000
TZOFFSETFROM:-0500
TZOFFSETTO:-0400
RDATE:20260308T020000
END:DAYLIGHT
END:VTIMEZONE
BEGIN:VEVENT
UID:3d27cd8d-c4e0-436e-841d-f0eccd317b1a
DTSTAMP:20260421T003241Z
DESCRIPTION:Indoor gardening and starting your plants from seed doesn't hav
 e to be difficult\, or expensive. If you have a plastic water bottle\, a l
 ittle soil and seeds\, you're good to go! Come and start your own indoor g
 arden.
DTSTART;TZID=America/New_York:20250424T131500
DTEND;TZID=America/New_York:20250424T141500
LOCATION:
SUMMARY:Earth Month Awareness Series: Hydroponic Planters from Recycled Mat
 erials (In Center)
END:VEVENT
END:VCALENDAR
