BEGIN:VCALENDAR
VERSION:2.0
PRODID:-//rssny.org//NONSGML kigkonsult.se iCalcreator 2.30.10//
CALSCALE:GREGORIAN
METHOD:PUBLISH
UID:ffed2ad3-8c09-44a3-8b7c-2b814bf54536
X-WR-CALDESC:Celebrate Earth Day with a new plant and help support RSS prog
 rams.
X-WR-RELCALID:e0a75ec2a538d6b630c08f5560387180
X-WR-TIMEZONE:America/New_York
BEGIN:VTIMEZONE
TZID:America/New_York
BEGIN:STANDARD
TZNAME:EST
DTSTART:20241103T020000
TZOFFSETFROM:-0400
TZOFFSETTO:-0500
RDATE:20251102T020000
END:STANDARD
BEGIN:DAYLIGHT
TZNAME:EDT
DTSTART:20250309T020000
TZOFFSETFROM:-0500
TZOFFSETTO:-0400
RDATE:20260308T020000
END:DAYLIGHT
END:VTIMEZONE
BEGIN:VEVENT
UID:d6fdcae4-e7d6-4acc-a8f3-a3ba0f211d05
DTSTAMP:20260421T002728Z
DESCRIPTION:Celebrate Earth Day with a new plant and help support RSS progr
 ams.
DTSTART;TZID=America/New_York:20250422T100000
DTEND;TZID=America/New_York:20250422T130000
LOCATION:
SUMMARY:Plant Sale
END:VEVENT
END:VCALENDAR
