BEGIN:VCALENDAR
VERSION:2.0
PRODID:-//rssny.org//NONSGML kigkonsult.se iCalcreator 2.30.10//
CALSCALE:GREGORIAN
METHOD:PUBLISH
UID:5ef7a662-70ba-4b70-8ce8-06de0933d0e9
X-WR-CALDESC:
X-WR-RELCALID:849175798e3cf8c6bef75bf3097d368f
X-WR-TIMEZONE:America/New_York
BEGIN:VTIMEZONE
TZID:America/New_York
BEGIN:STANDARD
TZNAME:EST
DTSTART:20241103T020000
TZOFFSETFROM:-0400
TZOFFSETTO:-0500
RDATE:20251102T020000
END:STANDARD
BEGIN:DAYLIGHT
TZNAME:EDT
DTSTART:20250309T020000
TZOFFSETFROM:-0500
TZOFFSETTO:-0400
RDATE:20260308T020000
END:DAYLIGHT
END:VTIMEZONE
BEGIN:VEVENT
UID:f1e19405-02f6-4c9b-999c-02068819c8cd
DTSTAMP:20260421T002730Z
DESCRIPTION:
DTSTART;TZID=America/New_York:20250422T090000
DTEND;TZID=America/New_York:20250422T150000
LOCATION:
SUMMARY:Earth Day
END:VEVENT
END:VCALENDAR
