BEGIN:VCALENDAR
VERSION:2.0
PRODID:-//rssny.org//NONSGML kigkonsult.se iCalcreator 2.30.10//
CALSCALE:GREGORIAN
METHOD:PUBLISH
UID:8934164f-3e4d-40da-8dc2-3ea60a8bd8df
X-WR-CALDESC:If you are attending online\, click here to register - https:/
 /rssny.org/belly-dancing.html\n\nJoin Noora for belly dancing. Belly danci
 ng is a great way to get exercise\, practice balance and have fun!
X-WR-RELCALID:233a4fa466480fe693ee7a0a009ea86b
X-WR-TIMEZONE:America/New_York
BEGIN:VTIMEZONE
TZID:America/New_York
BEGIN:STANDARD
TZNAME:EST
DTSTART:20241103T020000
TZOFFSETFROM:-0400
TZOFFSETTO:-0500
RDATE:20251102T020000
END:STANDARD
BEGIN:DAYLIGHT
TZNAME:EDT
DTSTART:20250309T020000
TZOFFSETFROM:-0500
TZOFFSETTO:-0400
RDATE:20260308T020000
END:DAYLIGHT
END:VTIMEZONE
BEGIN:VEVENT
UID:3a93dd80-df85-4298-8b8b-a39ed1e585f5
DTSTAMP:20260421T003031Z
DESCRIPTION:If you are attending online\, click here to register - https://
 rssny.org/belly-dancing.html\n\nJoin Noora for belly dancing. Belly dancin
 g is a great way to get exercise\, practice balance and have fun!
DTSTART;TZID=America/New_York:20250422T130000
DTEND;TZID=America/New_York:20250422T140000
LOCATION:
SUMMARY:Belly Dancing w/Noora (HYBRID)
END:VEVENT
END:VCALENDAR
