BEGIN:VCALENDAR
VERSION:2.0
PRODID:-//rssny.org//NONSGML kigkonsult.se iCalcreator 2.30.10//
CALSCALE:GREGORIAN
METHOD:PUBLISH
UID:1149e0de-17ad-43ea-9169-1648f8b23e5d
X-WR-CALDESC:Weekly non-competitive bridge game
X-WR-RELCALID:51acfe9b260e82cde4c5fa22e63cf038
X-WR-TIMEZONE:America/New_York
BEGIN:VTIMEZONE
TZID:America/New_York
BEGIN:STANDARD
TZNAME:EST
DTSTART:20241103T020000
TZOFFSETFROM:-0400
TZOFFSETTO:-0500
RDATE:20251102T020000
END:STANDARD
BEGIN:DAYLIGHT
TZNAME:EDT
DTSTART:20250309T020000
TZOFFSETFROM:-0500
TZOFFSETTO:-0400
RDATE:20260308T020000
END:DAYLIGHT
END:VTIMEZONE
BEGIN:VEVENT
UID:9b1e0d0a-ac61-4f75-91ab-cee8a7e0df58
DTSTAMP:20260421T003105Z
DESCRIPTION:Weekly non-competitive bridge game
DTSTART;TZID=America/New_York:20250418T140000
DTEND;TZID=America/New_York:20250418T163000
LOCATION:
SUMMARY:Leisure Games Bridge (In Center)
END:VEVENT
END:VCALENDAR
