BEGIN:VCALENDAR
VERSION:2.0
PRODID:-//rssny.org//NONSGML kigkonsult.se iCalcreator 2.30.10//
CALSCALE:GREGORIAN
METHOD:PUBLISH
UID:535fc228-cf66-4f60-8b83-ad69704d3ecf
X-WR-CALDESC:Click Here to Register - https://rssny.org/class-forms/concert
 s-in-motion.html\n
X-WR-RELCALID:19edc69285e1319dba3d278e1f78742e
X-WR-TIMEZONE:America/New_York
BEGIN:VTIMEZONE
TZID:America/New_York
BEGIN:STANDARD
TZNAME:EST
DTSTART:20241103T020000
TZOFFSETFROM:-0400
TZOFFSETTO:-0500
RDATE:20251102T020000
END:STANDARD
BEGIN:DAYLIGHT
TZNAME:EDT
DTSTART:20250309T020000
TZOFFSETFROM:-0500
TZOFFSETTO:-0400
RDATE:20260308T020000
END:DAYLIGHT
END:VTIMEZONE
BEGIN:VEVENT
UID:e9e89cf9-fbfd-4bfe-9142-81862b699ebd
DTSTAMP:20260421T003031Z
DESCRIPTION:Click Here to Register - https://rssny.org/class-forms/concerts
 -in-motion.html\n
DTSTART;TZID=America/New_York:20250417T130000
DTEND;TZID=America/New_York:20250417T140000
LOCATION:https://rssny.org/class-forms/concerts-in-motion.html
SUMMARY:Concerts in Motion: Coffehouse Thursdays- NOT AN RSS PROGRAM)
END:VEVENT
END:VCALENDAR
