BEGIN:VCALENDAR
VERSION:2.0
PRODID:-//rssny.org//NONSGML kigkonsult.se iCalcreator 2.30.10//
CALSCALE:GREGORIAN
METHOD:PUBLISH
UID:bba34a84-3385-446d-82fb-2c0b353b5760
X-WR-CALDESC:This writing group is for anyone who likes to write\, likes to
  share\, and enjoys creating both memoir and fictional writing.  Every wee
 k I give a prompt to focus on\, and the following week everyone has a chan
 ce to share what he/she has written.  There is time\, then\, to comment by
  picking a phrase or sentence that stood out for the listener as exception
 al or reminiscent.\n\nIf you are interested in joining send an email to in
 fo@rssny.org
X-WR-RELCALID:358820f18b23915ef8d690d7214b20a6
X-WR-TIMEZONE:America/New_York
BEGIN:VTIMEZONE
TZID:America/New_York
BEGIN:STANDARD
TZNAME:EST
DTSTART:20241103T020000
TZOFFSETFROM:-0400
TZOFFSETTO:-0500
RDATE:20251102T020000
END:STANDARD
BEGIN:DAYLIGHT
TZNAME:EDT
DTSTART:20250309T020000
TZOFFSETFROM:-0500
TZOFFSETTO:-0400
RDATE:20260308T020000
END:DAYLIGHT
END:VTIMEZONE
BEGIN:VEVENT
UID:4719e141-c49b-4bc5-aa02-44bdf902317f
DTSTAMP:20260421T002856Z
DESCRIPTION:This writing group is for anyone who likes to write\, likes to 
 share\, and enjoys creating both memoir and fictional writing.  Every week
  I give a prompt to focus on\, and the following week everyone has a chanc
 e to share what he/she has written.  There is time\, then\, to comment by 
 picking a phrase or sentence that stood out for the listener as exceptiona
 l or reminiscent.\n\nIf you are interested in joining send an email to inf
 o@rssny.org
DTSTART;TZID=America/New_York:20250414T123000
DTEND;TZID=America/New_York:20250414T140000
LOCATION:
SUMMARY:Write On! Writing Your Memories - Online
END:VEVENT
END:VCALENDAR
