BEGIN:VCALENDAR
VERSION:2.0
PRODID:-//rssny.org//NONSGML kigkonsult.se iCalcreator 2.30.10//
CALSCALE:GREGORIAN
METHOD:PUBLISH
UID:882ec465-9274-46c8-ac10-5ca06a2f4a6d
X-WR-CALDESC:Get ready to hop into fun! Join us at RSS for a thrilling egg 
 hunt where you'll search high and low for hidden eggs. What amazing treats
  and prizes will you find? Let the games begin!
X-WR-RELCALID:04791288879bd88afd10f928154483ea
X-WR-TIMEZONE:America/New_York
BEGIN:VTIMEZONE
TZID:America/New_York
BEGIN:STANDARD
TZNAME:EST
DTSTART:20241103T020000
TZOFFSETFROM:-0400
TZOFFSETTO:-0500
RDATE:20251102T020000
END:STANDARD
BEGIN:DAYLIGHT
TZNAME:EDT
DTSTART:20250309T020000
TZOFFSETFROM:-0500
TZOFFSETTO:-0400
RDATE:20260308T020000
END:DAYLIGHT
END:VTIMEZONE
BEGIN:VEVENT
UID:ffc7e756-1182-4967-96c0-baff7c370d7c
DTSTAMP:20260421T001957Z
DESCRIPTION:Get ready to hop into fun! Join us at RSS for a thrilling egg h
 unt where you'll search high and low for hidden eggs. What amazing treats 
 and prizes will you find? Let the games begin!
DTSTART;TZID=America/New_York:20250411T110000
DTEND;TZID=America/New_York:20250411T140000
LOCATION:
SUMMARY:Egg Hunt (In Center)
END:VEVENT
END:VCALENDAR
