BEGIN:VCALENDAR
VERSION:2.0
PRODID:-//rssny.org//NONSGML kigkonsult.se iCalcreator 2.30.10//
CALSCALE:GREGORIAN
METHOD:PUBLISH
UID:8e3e20e1-356b-4b5b-aee7-dc0fdadbbf68
X-WR-CALDESC:Weekly non-competitive bridge game
X-WR-RELCALID:b4ba78dd86dad402b3b1a67bff5f62b4
X-WR-TIMEZONE:America/New_York
BEGIN:VTIMEZONE
TZID:America/New_York
BEGIN:STANDARD
TZNAME:EST
DTSTART:20241103T020000
TZOFFSETFROM:-0400
TZOFFSETTO:-0500
RDATE:20251102T020000
END:STANDARD
BEGIN:DAYLIGHT
TZNAME:EDT
DTSTART:20250309T020000
TZOFFSETFROM:-0500
TZOFFSETTO:-0400
RDATE:20260308T020000
END:DAYLIGHT
END:VTIMEZONE
BEGIN:VEVENT
UID:d53c5b14-ce5f-4611-b738-85b54eec2f5b
DTSTAMP:20260421T003107Z
DESCRIPTION:Weekly non-competitive bridge game
DTSTART;TZID=America/New_York:20250411T140000
DTEND;TZID=America/New_York:20250411T163000
LOCATION:
SUMMARY:Leisure Games Bridge (In Center)
END:VEVENT
END:VCALENDAR
