BEGIN:VCALENDAR
VERSION:2.0
PRODID:-//rssny.org//NONSGML kigkonsult.se iCalcreator 2.30.10//
CALSCALE:GREGORIAN
METHOD:PUBLISH
UID:acc426ca-90f8-4a40-9881-58eddbf0d6f0
X-WR-CALDESC:Join us for a fun afternoon of egg dying using natural materia
 ls you can find in your kitchen. \n\nJoin us as part of the Earth Day Awar
 eness Series in April. n
X-WR-RELCALID:29932ff03b479279b737c57e62445f17
X-WR-TIMEZONE:America/New_York
BEGIN:VTIMEZONE
TZID:America/New_York
BEGIN:STANDARD
TZNAME:EST
DTSTART:20241103T020000
TZOFFSETFROM:-0400
TZOFFSETTO:-0500
RDATE:20251102T020000
END:STANDARD
BEGIN:DAYLIGHT
TZNAME:EDT
DTSTART:20250309T020000
TZOFFSETFROM:-0500
TZOFFSETTO:-0400
RDATE:20260308T020000
END:DAYLIGHT
END:VTIMEZONE
BEGIN:VEVENT
UID:7ae7c998-bc7d-4906-ace3-893ba06a24b8
DTSTAMP:20260421T003242Z
DESCRIPTION:Join us for a fun afternoon of egg dying using natural material
 s you can find in your kitchen. \n\nJoin us as part of the Earth Day Aware
 ness Series in April. n
DTSTART;TZID=America/New_York:20250410T130000
DTEND;TZID=America/New_York:20250410T140000
LOCATION:
SUMMARY:Earth Month Awareness Series: Egg Dying with Natural Materials (In 
 Center)
END:VEVENT
END:VCALENDAR
