BEGIN:VCALENDAR
VERSION:2.0
PRODID:-//rssny.org//NONSGML kigkonsult.se iCalcreator 2.30.10//
CALSCALE:GREGORIAN
METHOD:PUBLISH
UID:509496b0-5e5f-4704-80af-6fa6eec21d74
X-WR-CALDESC:Register here - https://rssny.org/class-forms/concerts-in-moti
 on.html
X-WR-RELCALID:5a43c0309a90af9478f4dc4febfda9fe
X-WR-TIMEZONE:America/New_York
BEGIN:VTIMEZONE
TZID:America/New_York
BEGIN:STANDARD
TZNAME:EST
DTSTART:20241103T020000
TZOFFSETFROM:-0400
TZOFFSETTO:-0500
RDATE:20251102T020000
END:STANDARD
BEGIN:DAYLIGHT
TZNAME:EDT
DTSTART:20250309T020000
TZOFFSETFROM:-0500
TZOFFSETTO:-0400
RDATE:20260308T020000
END:DAYLIGHT
END:VTIMEZONE
BEGIN:VEVENT
UID:b9cad6db-fca2-404d-999a-a320f9b9c7a2
DTSTAMP:20260421T003525Z
DESCRIPTION:Register here - https://rssny.org/class-forms/concerts-in-motio
 n.html
DTSTART;TZID=America/New_York:20250408T120000
DTEND;TZID=America/New_York:20250408T130000
LOCATION:https://rssny.org/class-forms/concerts-in-motion.html
SUMMARY:Concerts in Motion: Songbook Tuesdays (This is not an RSS event)
END:VEVENT
END:VCALENDAR
