BEGIN:VCALENDAR
VERSION:2.0
PRODID:-//rssny.org//NONSGML kigkonsult.se iCalcreator 2.30.10//
CALSCALE:GREGORIAN
METHOD:PUBLISH
UID:679fe4b2-eb6a-4b7c-8d8c-6a66eecfa82f
X-WR-CALDESC:
X-WR-RELCALID:c39d7d08c2b12b11f63b58801ebdac7d
X-WR-TIMEZONE:America/New_York
BEGIN:VTIMEZONE
TZID:America/New_York
BEGIN:STANDARD
TZNAME:EST
DTSTART:20241103T020000
TZOFFSETFROM:-0400
TZOFFSETTO:-0500
RDATE:20251102T020000
END:STANDARD
BEGIN:DAYLIGHT
TZNAME:EDT
DTSTART:20250309T020000
TZOFFSETFROM:-0500
TZOFFSETTO:-0400
RDATE:20260308T020000
END:DAYLIGHT
END:VTIMEZONE
BEGIN:VEVENT
UID:89a92c9a-fc7b-44bf-b2f7-bf7f11c876e3
DTSTAMP:20260421T003109Z
DESCRIPTION:
DTSTART;TZID=America/New_York:20250402T130000
DTEND;TZID=America/New_York:20250402T140000
LOCATION:
SUMMARY:Concerts in Motion: Chinese (This is not an RSS event)
END:VEVENT
END:VCALENDAR
