BEGIN:VCALENDAR
VERSION:2.0
PRODID:-//rssny.org//NONSGML kigkonsult.se iCalcreator 2.30.10//
CALSCALE:GREGORIAN
METHOD:PUBLISH
UID:31f1d134-65d8-4c83-9260-03618fb158e3
X-WR-CALDESC:Weekly non-competitive bridge game
X-WR-RELCALID:f24c95cebfc480c141ffc541476c6d1e
X-WR-TIMEZONE:America/New_York
BEGIN:VTIMEZONE
TZID:America/New_York
BEGIN:STANDARD
TZNAME:EST
DTSTART:20241103T020000
TZOFFSETFROM:-0400
TZOFFSETTO:-0500
RDATE:20251102T020000
END:STANDARD
BEGIN:DAYLIGHT
TZNAME:EDT
DTSTART:20250309T020000
TZOFFSETFROM:-0500
TZOFFSETTO:-0400
RDATE:20260308T020000
END:DAYLIGHT
END:VTIMEZONE
BEGIN:VEVENT
UID:4191e035-5943-42bc-b3cf-b2bdb4e5107c
DTSTAMP:20260421T022011Z
DESCRIPTION:Weekly non-competitive bridge game
DTSTART;TZID=America/New_York:20250328T140000
DTEND;TZID=America/New_York:20250328T163000
LOCATION:
SUMMARY:Leisure Games Bridge (In Center)
END:VEVENT
END:VCALENDAR
