BEGIN:VCALENDAR
VERSION:2.0
PRODID:-//rssny.org//NONSGML kigkonsult.se iCalcreator 2.30.10//
CALSCALE:GREGORIAN
METHOD:PUBLISH
UID:e1d65d02-bd0d-4428-ae2f-bc4853adcb3e
X-WR-CALDESC:Join us to learn about osteoarthritis and how to manage it. \n
 \nPresenter: Brando Lakes graduated from Columbia University’s Physical Th
 erapy Program in 2017. He is an orthopedic clinical specialist and doctor 
 of physical therapy
X-WR-RELCALID:6cd097b895b4c10f528543ebe6923987
X-WR-TIMEZONE:America/New_York
BEGIN:VTIMEZONE
TZID:America/New_York
BEGIN:STANDARD
TZNAME:EST
DTSTART:20241103T020000
TZOFFSETFROM:-0400
TZOFFSETTO:-0500
RDATE:20251102T020000
END:STANDARD
BEGIN:DAYLIGHT
TZNAME:EDT
DTSTART:20250309T020000
TZOFFSETFROM:-0500
TZOFFSETTO:-0400
RDATE:20260308T020000
END:DAYLIGHT
END:VTIMEZONE
BEGIN:VEVENT
UID:4b63430b-8458-49a9-aaa9-7c762a5d124a
DTSTAMP:20260421T020619Z
DESCRIPTION:Join us to learn about osteoarthritis and how to manage it. \n
 \nPresenter: Brando Lakes graduated from Columbia University’s Physical Th
 erapy Program in 2017. He is an orthopedic clinical specialist and doctor 
 of physical therapy
DTSTART;TZID=America/New_York:20250325T131500
DTEND;TZID=America/New_York:20250325T141500
LOCATION:
SUMMARY:Osteopoarthritis (Hybrid - I)
END:VEVENT
END:VCALENDAR
