BEGIN:VCALENDAR
VERSION:2.0
PRODID:-//rssny.org//NONSGML kigkonsult.se iCalcreator 2.30.10//
CALSCALE:GREGORIAN
METHOD:PUBLISH
UID:f891504c-6fc6-4611-bebb-f62f827e6dca
X-WR-CALDESC:
X-WR-RELCALID:ae23d9d829dd0d90961a458f86d1294d
X-WR-TIMEZONE:America/New_York
BEGIN:VTIMEZONE
TZID:America/New_York
BEGIN:STANDARD
TZNAME:EST
DTSTART:20241103T020000
TZOFFSETFROM:-0400
TZOFFSETTO:-0500
RDATE:20251102T020000
END:STANDARD
BEGIN:DAYLIGHT
TZNAME:EDT
DTSTART:20250309T020000
TZOFFSETFROM:-0500
TZOFFSETTO:-0400
RDATE:20260308T020000
END:DAYLIGHT
END:VTIMEZONE
BEGIN:VEVENT
UID:d849b314-23f6-4a75-9e98-9277ade5c1d4
DTSTAMP:20260421T021255Z
DESCRIPTION:
DTSTART;TZID=America/New_York:20250312T130000
DTEND;TZID=America/New_York:20250312T140000
LOCATION:
SUMMARY:Concerts in Motion: Chinese (This is not an RSS event)
END:VEVENT
END:VCALENDAR
