BEGIN:VCALENDAR
VERSION:2.0
PRODID:-//rssny.org//NONSGML kigkonsult.se iCalcreator 2.30.10//
CALSCALE:GREGORIAN
METHOD:PUBLISH
UID:5c6cc74c-b23f-4faf-9933-8c2be0e959d6
X-WR-CALDESC:Join Social Security's Public Affairs Associate Vincent J. Sco
 cozza for an eye-opening session on the latest Social Security scams. Lear
 n how fraudsters trick victims\, how to protect your benefits\, and what t
 o do if you’re targeted. 
X-WR-RELCALID:de07f2a59fa76892945b6a5f3e96d823
X-WR-TIMEZONE:America/New_York
BEGIN:VTIMEZONE
TZID:America/New_York
BEGIN:STANDARD
TZNAME:EST
DTSTART:20241103T020000
TZOFFSETFROM:-0400
TZOFFSETTO:-0500
RDATE:20251102T020000
END:STANDARD
BEGIN:DAYLIGHT
TZNAME:EDT
DTSTART:20240310T020000
TZOFFSETFROM:-0500
TZOFFSETTO:-0400
RDATE:20250309T020000
RDATE:20260308T020000
END:DAYLIGHT
END:VTIMEZONE
BEGIN:VEVENT
UID:9083eb80-d029-45a2-80a9-75f0f03b219e
DTSTAMP:20260421T022139Z
DESCRIPTION:Join Social Security's Public Affairs Associate Vincent J. Scoc
 ozza for an eye-opening session on the latest Social Security scams. Learn
  how fraudsters trick victims\, how to protect your benefits\, and what to
  do if you’re targeted. 
DTSTART;TZID=America/New_York:20250306T131500
DTEND;TZID=America/New_York:20250306T141500
LOCATION:
SUMMARY:Presentation: Scams and Social Security with Vincent\, Social Secur
 ity Public Affairs (Hybrid)
END:VEVENT
END:VCALENDAR
