BEGIN:VCALENDAR
VERSION:2.0
PRODID:-//rssny.org//NONSGML kigkonsult.se iCalcreator 2.30.10//
CALSCALE:GREGORIAN
METHOD:PUBLISH
UID:ebfeb224-71b3-495b-bb49-7c2e3db3931b
X-WR-CALDESC:To register: https://rssny.org/class-forms/ny-presbyterian.htm
 l\n\nCome learn about:\n\n\nPresented by Art Gillman\, MS\, RDN\, CDN\, Re
 gistered Dietitian Nutritionist at New York-Presbyterian
X-WR-RELCALID:2440d07ceaaac6eb982053f0334b5ffd
X-WR-TIMEZONE:America/New_York
BEGIN:VTIMEZONE
TZID:America/New_York
BEGIN:STANDARD
TZNAME:EST
DTSTART:20241103T020000
TZOFFSETFROM:-0400
TZOFFSETTO:-0500
RDATE:20251102T020000
END:STANDARD
BEGIN:DAYLIGHT
TZNAME:EDT
DTSTART:20240310T020000
TZOFFSETFROM:-0500
TZOFFSETTO:-0400
RDATE:20250309T020000
RDATE:20260308T020000
END:DAYLIGHT
END:VTIMEZONE
BEGIN:VEVENT
UID:e481787b-b1b0-464e-9c4d-bdbbe0aea62d
DTSTAMP:20260421T040818Z
DESCRIPTION:To register: https://rssny.org/class-forms/ny-presbyterian.html
 \n\nCome learn about:\n\n\nPresented by Art Gillman\, MS\, RDN\, CDN\, Reg
 istered Dietitian Nutritionist at New York-Presbyterian
DTSTART;TZID=America/New_York:20250228T110000
DTEND;TZID=America/New_York:20250228T114500
LOCATION:https://rssny.org/class-forms/ny-presbyterian.html
SUMMARY:NY Presbyterian: Eating to Promote Heart Health (Hybrid)
END:VEVENT
END:VCALENDAR
