BEGIN:VCALENDAR
VERSION:2.0
PRODID:-//rssny.org//NONSGML kigkonsult.se iCalcreator 2.30.10//
CALSCALE:GREGORIAN
METHOD:PUBLISH
UID:5a572c9f-89fd-4b54-9c85-50bf0991d9ea
X-WR-CALDESC:
X-WR-RELCALID:5aef7f9612c0d05db6aef718fcf91b1a
X-WR-TIMEZONE:America/New_York
BEGIN:VTIMEZONE
TZID:America/New_York
BEGIN:STANDARD
TZNAME:EST
DTSTART:20241103T020000
TZOFFSETFROM:-0400
TZOFFSETTO:-0500
RDATE:20251102T020000
END:STANDARD
BEGIN:DAYLIGHT
TZNAME:EDT
DTSTART:20240310T020000
TZOFFSETFROM:-0500
TZOFFSETTO:-0400
RDATE:20250309T020000
RDATE:20260308T020000
END:DAYLIGHT
END:VTIMEZONE
BEGIN:VEVENT
UID:74dd5649-3f0d-4c36-9c0d-4cea3471ec69
DTSTAMP:20260421T040501Z
DESCRIPTION:
DTSTART;TZID=America/New_York:20250226T103000
DTEND;TZID=America/New_York:20250226T113000
LOCATION:https://rssny.org/class-forms/art-deco.html
SUMMARY:Worshiping Deco: An Inside Look at Churches and Synagogues (Hybrid)
END:VEVENT
END:VCALENDAR
