BEGIN:VCALENDAR
VERSION:2.0
PRODID:-//rssny.org//NONSGML kigkonsult.se iCalcreator 2.30.10//
CALSCALE:GREGORIAN
METHOD:PUBLISH
UID:3f519d4c-1cb6-48e0-ac17-a26b82613183
X-WR-CALDESC:
X-WR-RELCALID:050fb1665497072d5c67fa0528f033d4
X-WR-TIMEZONE:America/New_York
BEGIN:VTIMEZONE
TZID:America/New_York
BEGIN:STANDARD
TZNAME:EST
DTSTART:20241103T020000
TZOFFSETFROM:-0400
TZOFFSETTO:-0500
RDATE:20251102T020000
END:STANDARD
BEGIN:DAYLIGHT
TZNAME:EDT
DTSTART:20240310T020000
TZOFFSETFROM:-0500
TZOFFSETTO:-0400
RDATE:20250309T020000
RDATE:20260308T020000
END:DAYLIGHT
END:VTIMEZONE
BEGIN:VEVENT
UID:07097ad5-801e-43c4-9b4e-49662ac2b09b
DTSTAMP:20260421T040150Z
DESCRIPTION:
DTSTART;TZID=America/New_York:20250214T144500
DTEND;TZID=America/New_York:20250214T160000
LOCATION:
SUMMARY:Valentine's Day High Tea
END:VEVENT
END:VCALENDAR
