BEGIN:VCALENDAR
VERSION:2.0
PRODID:-//rssny.org//NONSGML kigkonsult.se iCalcreator 2.30.10//
CALSCALE:GREGORIAN
METHOD:PUBLISH
UID:279b4b18-ff4f-480d-b680-fafed289bccc
X-WR-CALDESC:Weekly non-competitive bridge game
X-WR-RELCALID:81094c10ab48b33412d6a5b25540a937
X-WR-TIMEZONE:America/New_York
BEGIN:VTIMEZONE
TZID:America/New_York
BEGIN:STANDARD
TZNAME:EST
DTSTART:20241103T020000
TZOFFSETFROM:-0400
TZOFFSETTO:-0500
RDATE:20251102T020000
END:STANDARD
BEGIN:DAYLIGHT
TZNAME:EDT
DTSTART:20240310T020000
TZOFFSETFROM:-0500
TZOFFSETTO:-0400
RDATE:20250309T020000
RDATE:20260308T020000
END:DAYLIGHT
END:VTIMEZONE
BEGIN:VEVENT
UID:ec8c076d-bbdf-4a95-9c64-ef5056b4d25f
DTSTAMP:20260421T040414Z
DESCRIPTION:Weekly non-competitive bridge game
DTSTART;TZID=America/New_York:20250214T140000
DTEND;TZID=America/New_York:20250214T163000
LOCATION:
SUMMARY:Leisure Games Bridge (In Center)
END:VEVENT
END:VCALENDAR
