BEGIN:VCALENDAR
VERSION:2.0
PRODID:-//rssny.org//NONSGML kigkonsult.se iCalcreator 2.30.10//
CALSCALE:GREGORIAN
METHOD:PUBLISH
UID:89546064-9496-49ae-8e8f-a0bb03380ba1
X-WR-CALDESC:
X-WR-RELCALID:d5678e0c395b9ac222c16e37b6bc322e
X-WR-TIMEZONE:America/New_York
BEGIN:VTIMEZONE
TZID:America/New_York
BEGIN:STANDARD
TZNAME:EST
DTSTART:20241103T020000
TZOFFSETFROM:-0400
TZOFFSETTO:-0500
RDATE:20251102T020000
END:STANDARD
BEGIN:DAYLIGHT
TZNAME:EDT
DTSTART:20240310T020000
TZOFFSETFROM:-0500
TZOFFSETTO:-0400
RDATE:20250309T020000
RDATE:20260308T020000
END:DAYLIGHT
END:VTIMEZONE
BEGIN:VEVENT
UID:8bed9a0b-b1b5-457a-b991-bf2c1d3f1687
DTSTAMP:20260421T040619Z
DESCRIPTION:
DTSTART;TZID=America/New_York:20250213T140000
DTEND;TZID=America/New_York:20250213T160000
LOCATION:
SUMMARY:Movie in Center: Bridget Jones: Mad About the Boy
END:VEVENT
END:VCALENDAR
