BEGIN:VCALENDAR
VERSION:2.0
PRODID:-//rssny.org//NONSGML kigkonsult.se iCalcreator 2.30.10//
CALSCALE:GREGORIAN
METHOD:PUBLISH
UID:fdf5448d-a2c3-4cf4-bb65-bf10c9a568f9
X-WR-CALDESC:Space is limited. \n\nIf interested\, contact Social Work Inte
 rn: Jane Matluck\, Social Work\, intern\nCall: 718-884-5900\nEmail: jmatlu
 ck@rssny.org
X-WR-RELCALID:139370782d8afd807a5b314521cbc601
X-WR-TIMEZONE:America/New_York
BEGIN:VTIMEZONE
TZID:America/New_York
BEGIN:STANDARD
TZNAME:EST
DTSTART:20241103T020000
TZOFFSETFROM:-0400
TZOFFSETTO:-0500
RDATE:20251102T020000
END:STANDARD
BEGIN:DAYLIGHT
TZNAME:EDT
DTSTART:20240310T020000
TZOFFSETFROM:-0500
TZOFFSETTO:-0400
RDATE:20250309T020000
RDATE:20260308T020000
END:DAYLIGHT
END:VTIMEZONE
BEGIN:VEVENT
UID:a511e3cb-ac96-4723-b3fa-9ef3a69858e3
DTSTAMP:20260421T040812Z
DESCRIPTION:Space is limited. \n\nIf interested\, contact Social Work Inter
 n: Jane Matluck\, Social Work\, intern\nCall: 718-884-5900\nEmail: jmatluc
 k@rssny.org
DTSTART;TZID=America/New_York:20250205T150000
DTEND;TZID=America/New_York:20250205T160000
LOCATION:
SUMMARY:Grief Group: Loss of Child (In-Center only)
END:VEVENT
END:VCALENDAR
