BEGIN:VCALENDAR
VERSION:2.0
PRODID:-//rssny.org//NONSGML kigkonsult.se iCalcreator 2.30.10//
CALSCALE:GREGORIAN
METHOD:PUBLISH
UID:08b1f31b-ca92-46ea-992a-0c688f78834c
X-WR-CALDESC:To register: https://rssny.org/class-forms/high-tea.html\n\nRi
 ng in the Chinese New Year with us! Join us for a delightful Chinese New Y
 ear High Tea featuring traditional treats and festive cheer.
X-WR-RELCALID:baf6a43b9451d138cc3c11f07ea7804e
X-WR-TIMEZONE:America/New_York
BEGIN:VTIMEZONE
TZID:America/New_York
BEGIN:STANDARD
TZNAME:EST
DTSTART:20241103T020000
TZOFFSETFROM:-0400
TZOFFSETTO:-0500
RDATE:20251102T020000
END:STANDARD
BEGIN:DAYLIGHT
TZNAME:EDT
DTSTART:20240310T020000
TZOFFSETFROM:-0500
TZOFFSETTO:-0400
RDATE:20250309T020000
RDATE:20260308T020000
END:DAYLIGHT
END:VTIMEZONE
BEGIN:VEVENT
UID:7afdc43b-16f3-458a-adcf-68ab90202aec
DTSTAMP:20260421T054406Z
DESCRIPTION:To register: https://rssny.org/class-forms/high-tea.html\n\nRin
 g in the Chinese New Year with us! Join us for a delightful Chinese New Ye
 ar High Tea featuring traditional treats and festive cheer.
DTSTART;TZID=America/New_York:20250130T141500
DTEND;TZID=America/New_York:20250130T151500
LOCATION:https://rssny.org/class-forms/high-tea.html
SUMMARY:Fancy High Tea: Chinese New Year (In-Center only)
END:VEVENT
END:VCALENDAR
