BEGIN:VCALENDAR
VERSION:2.0
PRODID:-//rssny.org//NONSGML kigkonsult.se iCalcreator 2.30.10//
CALSCALE:GREGORIAN
METHOD:PUBLISH
UID:91e9c7f4-9bee-4c7b-b33a-ea6733b3759e
X-WR-CALDESC:Space is limited. \n\nIf interested\, contact Social Work Inte
 rn: Jane Matluck\n-Call: 718-884-5900\n-Email: jmatluck@rssny.org
X-WR-RELCALID:31ccf81ce896e50419d5dd461fa260f0
X-WR-TIMEZONE:America/New_York
BEGIN:VTIMEZONE
TZID:America/New_York
BEGIN:STANDARD
TZNAME:EST
DTSTART:20241103T020000
TZOFFSETFROM:-0400
TZOFFSETTO:-0500
RDATE:20251102T020000
END:STANDARD
BEGIN:DAYLIGHT
TZNAME:EDT
DTSTART:20240310T020000
TZOFFSETFROM:-0500
TZOFFSETTO:-0400
RDATE:20250309T020000
RDATE:20260308T020000
END:DAYLIGHT
END:VTIMEZONE
BEGIN:VEVENT
UID:901b6212-77b5-49b0-84d9-2bff97cd4fd1
DTSTAMP:20260421T054803Z
DESCRIPTION:Space is limited. \n\nIf interested\, contact Social Work Inter
 n: Jane Matluck\n-Call: 718-884-5900\n-Email: jmatluck@rssny.org
DTSTART;TZID=America/New_York:20250129T120000
DTEND;TZID=America/New_York:20250129T130000
LOCATION:
SUMMARY:Grief Group: Spousal and Partner Loss (In-Center only)
END:VEVENT
END:VCALENDAR
