BEGIN:VCALENDAR
VERSION:2.0
PRODID:-//rssny.org//NONSGML kigkonsult.se iCalcreator 2.30.10//
CALSCALE:GREGORIAN
METHOD:PUBLISH
UID:b540cfb1-6ef4-47b4-a190-5aa132b350de
X-WR-CALDESC:In a very special tribute on his birthday RSS members present 
 a moving review of some of Dr. King's most famous works.
X-WR-RELCALID:7266fb9f1b3096b054e58f1f3865849e
X-WR-TIMEZONE:America/New_York
BEGIN:VTIMEZONE
TZID:America/New_York
BEGIN:STANDARD
TZNAME:EST
DTSTART:20241103T020000
TZOFFSETFROM:-0400
TZOFFSETTO:-0500
RDATE:20251102T020000
END:STANDARD
BEGIN:DAYLIGHT
TZNAME:EDT
DTSTART:20240310T020000
TZOFFSETFROM:-0500
TZOFFSETTO:-0400
RDATE:20250309T020000
RDATE:20260308T020000
END:DAYLIGHT
END:VTIMEZONE
BEGIN:VEVENT
UID:8b44b9d1-026b-494f-b9b4-737832f7c07b
DTSTAMP:20260421T054818Z
DESCRIPTION:In a very special tribute on his birthday RSS members present a
  moving review of some of Dr. King's most famous works.
DTSTART;TZID=America/New_York:20250115T130000
DTEND;TZID=America/New_York:20250115T143000
LOCATION:
SUMMARY:Martin Luther King Jr. - Speeches\, Sermons and Essays (Hybrid)
END:VEVENT
END:VCALENDAR
