BEGIN:VCALENDAR
VERSION:2.0
PRODID:-//rssny.org//NONSGML kigkonsult.se iCalcreator 2.30.10//
CALSCALE:GREGORIAN
METHOD:PUBLISH
UID:c59d542a-cf34-4622-9e98-65abe6e41fcc
X-WR-CALDESC:Weekly non-competitive bridge game
X-WR-RELCALID:a5c29bd3c87dcf854c73ed2f1cc5b679
X-WR-TIMEZONE:America/New_York
BEGIN:VTIMEZONE
TZID:America/New_York
BEGIN:STANDARD
TZNAME:EST
DTSTART:20241103T020000
TZOFFSETFROM:-0400
TZOFFSETTO:-0500
RDATE:20251102T020000
END:STANDARD
BEGIN:DAYLIGHT
TZNAME:EDT
DTSTART:20240310T020000
TZOFFSETFROM:-0500
TZOFFSETTO:-0400
RDATE:20250309T020000
RDATE:20260308T020000
END:DAYLIGHT
END:VTIMEZONE
BEGIN:VEVENT
UID:3fcb7cef-fae9-4afe-a0e2-cc31518cf70c
DTSTAMP:20260421T054625Z
DESCRIPTION:Weekly non-competitive bridge game
DTSTART;TZID=America/New_York:20250110T140000
DTEND;TZID=America/New_York:20250110T163000
LOCATION:
SUMMARY:Leisure Games Bridge (In Center)
END:VEVENT
END:VCALENDAR
