BEGIN:VCALENDAR
VERSION:2.0
PRODID:-//rssny.org//NONSGML kigkonsult.se iCalcreator 2.30.10//
CALSCALE:GREGORIAN
METHOD:PUBLISH
UID:1d5d72f8-7f96-440b-b079-ed6e3c4cf381
X-WR-CALDESC:Space is limited. \n\nIf interested\, contact Social Work Inte
 rn: Jane Matluck\n-Call: 718-884-5900\n-Email: jmatluck@rssny.org
X-WR-RELCALID:e7313bf8e6127acfb08dfb2b489e310b
X-WR-TIMEZONE:America/New_York
BEGIN:VTIMEZONE
TZID:America/New_York
BEGIN:STANDARD
TZNAME:EST
DTSTART:20241103T020000
TZOFFSETFROM:-0400
TZOFFSETTO:-0500
RDATE:20251102T020000
END:STANDARD
BEGIN:DAYLIGHT
TZNAME:EDT
DTSTART:20240310T020000
TZOFFSETFROM:-0500
TZOFFSETTO:-0400
RDATE:20250309T020000
RDATE:20260308T020000
END:DAYLIGHT
END:VTIMEZONE
BEGIN:VEVENT
UID:5fac2db5-120e-4194-befc-e52016208688
DTSTAMP:20260421T054747Z
DESCRIPTION:Space is limited. \n\nIf interested\, contact Social Work Inter
 n: Jane Matluck\n-Call: 718-884-5900\n-Email: jmatluck@rssny.org
DTSTART;TZID=America/New_York:20250108T120000
DTEND;TZID=America/New_York:20250108T130000
LOCATION:
SUMMARY:Grief Group: Spousal and Partner Loss (In-Center only)
END:VEVENT
END:VCALENDAR
