BEGIN:VCALENDAR
VERSION:2.0
PRODID:-//rssny.org//NONSGML kigkonsult.se iCalcreator 2.30.10//
CALSCALE:GREGORIAN
METHOD:PUBLISH
UID:38b5a098-8842-4295-aed8-fe6acc3e82f9
X-WR-CALDESC:Weekly non-competitive bridge game
X-WR-RELCALID:925212181326ee52604f9f5f43534b1b
X-WR-TIMEZONE:America/New_York
BEGIN:VTIMEZONE
TZID:America/New_York
BEGIN:STANDARD
TZNAME:EST
DTSTART:20241103T020000
TZOFFSETFROM:-0400
TZOFFSETTO:-0500
RDATE:20251102T020000
END:STANDARD
BEGIN:DAYLIGHT
TZNAME:EDT
DTSTART:20240310T020000
TZOFFSETFROM:-0500
TZOFFSETTO:-0400
RDATE:20250309T020000
RDATE:20260308T020000
END:DAYLIGHT
END:VTIMEZONE
BEGIN:VEVENT
UID:e2904f49-6c72-4ed9-9db4-0c7453f75163
DTSTAMP:20260421T054528Z
DESCRIPTION:Weekly non-competitive bridge game
DTSTART;TZID=America/New_York:20250103T140000
DTEND;TZID=America/New_York:20250103T163000
LOCATION:
SUMMARY:Leisure Games Bridge (In Center)
END:VEVENT
END:VCALENDAR
