BEGIN:VCALENDAR
VERSION:2.0
PRODID:-//rssny.org//NONSGML kigkonsult.se iCalcreator 2.30.10//
CALSCALE:GREGORIAN
METHOD:PUBLISH
UID:e52359f5-4add-4b84-a843-3bdbd3b3d74f
X-WR-CALDESC:Register Here - https://rssny.org/music_appreciation.html\n\nM
 ore on Kimin Kin\nhttps://www.mariinsky.ru/en/company/ballet_mt_men/kimin_
 kim/\n\n\n
X-WR-RELCALID:e99f960de7cc555c925cd77c13c7433d
X-WR-TIMEZONE:America/New_York
BEGIN:VTIMEZONE
TZID:America/New_York
BEGIN:STANDARD
TZNAME:EST
DTSTART:20241103T020000
TZOFFSETFROM:-0400
TZOFFSETTO:-0500
RDATE:20251102T020000
END:STANDARD
BEGIN:DAYLIGHT
TZNAME:EDT
DTSTART:20240310T020000
TZOFFSETFROM:-0500
TZOFFSETTO:-0400
RDATE:20250309T020000
RDATE:20260308T020000
END:DAYLIGHT
END:VTIMEZONE
BEGIN:VEVENT
UID:fb9d1fb5-e404-44d7-8023-5294127ea818
DTSTAMP:20260421T073121Z
DESCRIPTION:Register Here - https://rssny.org/music_appreciation.html\n\nMo
 re on Kimin Kin\nhttps://www.mariinsky.ru/en/company/ballet_mt_men/kimin_k
 im/\n\n\n
DTSTART;TZID=America/New_York:20241229T160000
DTEND;TZID=America/New_York:20241229T171500
LOCATION:https://rssny.org/music_appreciation.html
SUMMARY:Music Appreciation with Diana: Kimin Kim\, classical ballet dancer
END:VEVENT
END:VCALENDAR
