BEGIN:VCALENDAR
VERSION:2.0
PRODID:-//rssny.org//NONSGML kigkonsult.se iCalcreator 2.30.10//
CALSCALE:GREGORIAN
METHOD:PUBLISH
UID:fe3530c8-40b5-492a-9c27-54d11b0b1bc8
X-WR-CALDESC:Weekly non-competitive bridge game
X-WR-RELCALID:8fe7dcc0c99e0305ac0b777277c8194f
X-WR-TIMEZONE:America/New_York
BEGIN:VTIMEZONE
TZID:America/New_York
BEGIN:STANDARD
TZNAME:EST
DTSTART:20241103T020000
TZOFFSETFROM:-0400
TZOFFSETTO:-0500
RDATE:20251102T020000
END:STANDARD
BEGIN:DAYLIGHT
TZNAME:EDT
DTSTART:20240310T020000
TZOFFSETFROM:-0500
TZOFFSETTO:-0400
RDATE:20250309T020000
RDATE:20260308T020000
END:DAYLIGHT
END:VTIMEZONE
BEGIN:VEVENT
UID:33607954-2978-46e7-aaef-2ed6a910d730
DTSTAMP:20260421T073001Z
DESCRIPTION:Weekly non-competitive bridge game
DTSTART;TZID=America/New_York:20241227T140000
DTEND;TZID=America/New_York:20241227T163000
LOCATION:
SUMMARY:Leisure Games Bridge (In Center)
END:VEVENT
END:VCALENDAR
