BEGIN:VCALENDAR
VERSION:2.0
PRODID:-//rssny.org//NONSGML kigkonsult.se iCalcreator 2.30.10//
CALSCALE:GREGORIAN
METHOD:PUBLISH
UID:f2595f6a-815a-4fe4-bf1d-340d40bfe3c3
X-WR-CALDESC:
X-WR-RELCALID:464898d14aabf318541fcfa98a57f6bd
X-WR-TIMEZONE:America/New_York
BEGIN:VTIMEZONE
TZID:America/New_York
BEGIN:STANDARD
TZNAME:EST
DTSTART:20241103T020000
TZOFFSETFROM:-0400
TZOFFSETTO:-0500
RDATE:20251102T020000
END:STANDARD
BEGIN:DAYLIGHT
TZNAME:EDT
DTSTART:20240310T020000
TZOFFSETFROM:-0500
TZOFFSETTO:-0400
RDATE:20250309T020000
RDATE:20260308T020000
END:DAYLIGHT
END:VTIMEZONE
BEGIN:VEVENT
UID:7248c58c-685b-4d61-9796-8a618f5670ec
DTSTAMP:20260421T072642Z
DESCRIPTION:
DTSTART;TZID=America/New_York:20241218T131500
DTEND;TZID=America/New_York:20241218T141500
LOCATION:
SUMMARY:Birthday Celebration Party
END:VEVENT
END:VCALENDAR
