BEGIN:VCALENDAR
VERSION:2.0
PRODID:-//rssny.org//NONSGML kigkonsult.se iCalcreator 2.30.10//
CALSCALE:GREGORIAN
METHOD:PUBLISH
UID:9e006bcc-d251-4737-9fd0-deee7ff3aac6
X-WR-CALDESC:
X-WR-RELCALID:a1dd77869352504a141ae56507180fd7
X-WR-TIMEZONE:America/New_York
BEGIN:VTIMEZONE
TZID:America/New_York
BEGIN:STANDARD
TZNAME:EST
DTSTART:20241103T020000
TZOFFSETFROM:-0400
TZOFFSETTO:-0500
RDATE:20251102T020000
END:STANDARD
BEGIN:DAYLIGHT
TZNAME:EDT
DTSTART:20240310T020000
TZOFFSETFROM:-0500
TZOFFSETTO:-0400
RDATE:20250309T020000
RDATE:20260308T020000
END:DAYLIGHT
END:VTIMEZONE
BEGIN:VEVENT
UID:e72bda46-c686-43df-9b8f-ad35baa3a6d9
DTSTAMP:20260421T070916Z
DESCRIPTION:
DTSTART;TZID=America/New_York:20241217T100000
DTEND;TZID=America/New_York:20241217T120000
LOCATION:
SUMMARY:BAKE SALE
END:VEVENT
END:VCALENDAR
