BEGIN:VCALENDAR
VERSION:2.0
PRODID:-//rssny.org//NONSGML kigkonsult.se iCalcreator 2.30.10//
CALSCALE:GREGORIAN
METHOD:PUBLISH
UID:19f3ae8d-36eb-48a5-95c1-ac95ba01e1c9
X-WR-CALDESC:Weekly non-competitive bridge game
X-WR-RELCALID:b1d960b17e40091462cd2f3344dc73f1
X-WR-TIMEZONE:America/New_York
BEGIN:VTIMEZONE
TZID:America/New_York
BEGIN:STANDARD
TZNAME:EST
DTSTART:20241103T020000
TZOFFSETFROM:-0400
TZOFFSETTO:-0500
RDATE:20251102T020000
END:STANDARD
BEGIN:DAYLIGHT
TZNAME:EDT
DTSTART:20240310T020000
TZOFFSETFROM:-0500
TZOFFSETTO:-0400
RDATE:20250309T020000
RDATE:20260308T020000
END:DAYLIGHT
END:VTIMEZONE
BEGIN:VEVENT
UID:182fd53f-da8d-4525-927d-12c87edff0ed
DTSTAMP:20260421T072850Z
DESCRIPTION:Weekly non-competitive bridge game
DTSTART;TZID=America/New_York:20241213T140000
DTEND;TZID=America/New_York:20241213T163000
LOCATION:
SUMMARY:Leisure Games Bridge (In Center)
END:VEVENT
END:VCALENDAR
